BEGIN:VCALENDAR
VERSION:2.0
PRODID:-//Sabre//Sabre VObject 4.1.6//EN
CALSCALE:GREGORIAN
BEGIN:VEVENT
UID:sabre-vobject-fed95a8a-6442-4d5b-983a-bf073916c1bb
DTSTAMP:20260419T162123Z
SUMMARY:ATREJU - LAYERS
DTSTART;TZID=Europe/Berlin:20260423T190000
DTEND;TZID=Europe/Berlin:20260423T220000
ORGANIZER;CN=Künstler 34 e.V. (K34):MAILTO:info@k34.org
LOCATION:K34 - Galerie\, Medusastraße 16\, Kiel (Gaarden)
GEO:54.3103309;10.1481699
DESCRIPTION:\n21.03.2026 bis 30.04.2026\nVernissage 21.03.2026 ab 19 Uhr\nG
 eöffnet donnerstags 19 bis 22 Uhr\nFinissage 30.04.2026 ab 19 Uhr\n\nAtre
 ju\, geboren 1986\, ist ein Streetart Künstler aus Kiel\, dessen Arbeiten
  seit den frühen 2010er Jahren im Kieler Stadtbild sichtbar werden. Seine
  künstlerische Praxis bewegt sich zwischen Intervention\, Installation un
 d urbaner Illustration. Charakteristisch für Atreju ist der Einsatz von v
 erschiedenen Lacken auf Glas\, die gezielt der Veränderung durch Wetter\,
  Zeit und städtischen Prozessen ausgesetzt werden.
BEGIN:VALARM
TRIGGER;VALUE=DURATION:P1D
ACTION:DISPLAY
DESCRIPTION:ATREJU - LAYERS
END:VALARM
END:VEVENT
END:VCALENDAR
