BEGIN:VCALENDAR
VERSION:2.0
PRODID:-//Sabre//Sabre VObject 4.1.6//EN
CALSCALE:GREGORIAN
BEGIN:VEVENT
UID:sabre-vobject-e3b1ddee-1c7f-45f2-b4b9-950f8e0e9d4d
DTSTAMP:20260419T162419Z
SUMMARY:Arne Jansen und Stephan Braun: Short Stories
DTSTART;TZID=Europe/Berlin:20260424T200000
ORGANIZER;CN="Landeshauptstadt Kiel, Amt für Kultur und Weiterbildung":MAI
 LTO:veranstaltungen@kiel.de
LOCATION:Kulturforum Kiel\, Andreas-Gayk-Straße 31\, Kiel (Mitte)
GEO:54.3192084;10.1357235
DESCRIPTION:Für ihre neue Einspielung gaben die beiden vielbeschäftigten 
 Musiker die Leitlinie aus: Wir erzählen unsere eigenen Geschichten.\nFür
  ihre neue Einspielung gaben die beiden vielbeschäftigten Musiker\, die m
 an in der Vergangenheit unter anderem an der Seite von Melody Gardot\, Nil
 s Landgren\, Till Brönner\, Nils Wülker\, Anders Jormin oder dem Orchest
 ra Baobab hören konnte\, die Leitlinie aus: Wir erzählen unsere eigenen 
 Geschichten.\nDie Rollenverteilung zwischen Jansen und Braun ist eine deut
 lich andere als auf dem Erstling\, der Dire-Straits-Hommage. War der Gitar
 rist so etwas wie ein Sänger auf sechs Saiten und für die Melodien zust
 ändig\, so ist es nun auch Braun\, der auf Cello und Bass die Themen vorg
 ibt oder virtuos soliert.\n\n„Short Stories“ zeigt\, wie meisterhaft u
 nd innovativ Jansen und Braun ihr Instrumentarium beherrschen – dank spe
 zieller Spieltechniken und dem Einsatz von Delays\, Loops und Volume-Pedal
 s klingt das oft nach viel mehr als nur nach einem Duo. Der narrative Fade
 n\, der alles zusammenhält\, lautet: Freundschaft. Man hört in jedem Ton
 \, dass sich Jansen und Braun schon seit Ewigkeiten kennen und tief verbun
 den sind.\n\nJede Komposition hat einen eigenen erzählerischen Ansatz. Ma
 l haben die zwischen Jazz\, Folk\, Pop und Americana angesiedelten Storys 
 einen dezidiert literarischen Background. Andere Stücke verwandeln Reisee
 rinnerungen in intime instrumentale Zwiegespräche.\n\nWie jeder gute Gesc
 hichtenerzähler lassen Jansen und Braun Platz für das Ungesagte und erö
 ffnen damit Interpretationsräume mit langem Nachhall im Kopf der Zuhören
 den.\n\nVeranstalter: Arne Jansen
BEGIN:VALARM
TRIGGER;VALUE=DURATION:P1D
ACTION:DISPLAY
DESCRIPTION:Arne Jansen und Stephan Braun: Short Stories
END:VALARM
END:VEVENT
END:VCALENDAR
