BEGIN:VCALENDAR
VERSION:2.0
PRODID:-//Sabre//Sabre VObject 4.1.6//EN
CALSCALE:GREGORIAN
BEGIN:VEVENT
UID:sabre-vobject-e34156f4-e471-41a1-bf34-106ec424d98c
DTSTAMP:20260419T161712Z
SUMMARY:AnsprechBar
DTSTART;TZID=Europe/Berlin:20260416T123000
DTEND;TZID=Europe/Berlin:20260416T143000
ORGANIZER;CN=Ev.-Luth. Kirchengemeinde St. Nikolai zu Kiel:MAILTO:gemeindeb
 uero@st-nikolai-kiel.de
LOCATION:Offene Kirche St. Nikolai in Kiel\, Alter Markt\, Kiel
GEO:54.323221;10.138686
DESCRIPTION:Ein offenes Ohr\, Raum und Zeit für ein Gespräch – an jedem
  Donnerstag von 12:30 bis 14:30 Uhr vor dem Raum der Stille\nIn der Anspre
 chBar finden Sie ein offenes Ohr für Ihre Gedanken\, Fragen oder Sorgen\,
  für die kleinen und großen Geschichten\, die erzählt und gehört werde
 n möchten.An jedem Donnerstag finden Sie zwischen 12:30 und 14:30 Uhr vor
  dem Raum der Stille eine*n Seelsorger*in mit Zeit für Sie.Herzlich willk
 ommen!Darüber hinaus können Sie natürlich jederzeit Kontakt zu uns aufn
 ehmen\, um Gesprächstermine zu verabreden:Pastorin Charlotte Hartwig:Mobi
 l: 0176-10414129Mail: p.hartwig@st-nikolai-kiel.dePastorin Maren SchmidtMo
 bil: 0151-74118358Mail: schmidt.nikolai@altholstein.de
BEGIN:VALARM
TRIGGER;VALUE=DURATION:P1D
ACTION:DISPLAY
DESCRIPTION:AnsprechBar
END:VALARM
END:VEVENT
END:VCALENDAR
