BEGIN:VCALENDAR
VERSION:2.0
PRODID:-//Sabre//Sabre VObject 4.1.6//EN
CALSCALE:GREGORIAN
BEGIN:VEVENT
UID:sabre-vobject-7678aa15-73ea-4500-8178-10c126d3f530
DTSTAMP:20260419T161759Z
SUMMARY:Abendsegen
DTSTART;TZID=Europe/Berlin:20260409T180000
DTEND;TZID=Europe/Berlin:20260409T184500
ORGANIZER;CN=Ev.-Luth. Luther-Kirchengemeinde Kiel:MAILTO:kirchenbuero@luth
 erkirche-kiel.de
LOCATION:Lutherkirche Kiel\, Schillerstraße 27\, Kiel
GEO:54.330763;10.124127
BEGIN:VALARM
TRIGGER;VALUE=DURATION:P1D
ACTION:DISPLAY
DESCRIPTION:Abendsegen
END:VALARM
END:VEVENT
END:VCALENDAR
