BEGIN:VCALENDAR
VERSION:2.0
PRODID:-//Sabre//Sabre VObject 4.1.6//EN
CALSCALE:GREGORIAN
BEGIN:VEVENT
UID:sabre-vobject-dd90331a-ad10-476c-b625-1c4550a2a087
DTSTAMP:20260419T162301Z
SUMMARY:Abendmahlsgottesdienst\, Pastor Schwer
DTSTART;TZID=Europe/Berlin:20260426T103000
ORGANIZER;CN=Ev.-Luth. Emmaus-Kirchengemeinde Kiel:MAILTO:kirchenbuero@emma
 us-kiel.de
LOCATION:Emmaus-Kirchengemeinde\, Holtenauer Straße 327\, Kiel
GEO:54.3576227;10.1298961
BEGIN:VALARM
TRIGGER;VALUE=DURATION:P1D
ACTION:DISPLAY
DESCRIPTION:Abendmahlsgottesdienst\, Pastor Schwer
END:VALARM
END:VEVENT
END:VCALENDAR
