BEGIN:VCALENDAR
VERSION:2.0
PRODID:-//Sabre//Sabre VObject 4.1.6//EN
CALSCALE:GREGORIAN
BEGIN:VEVENT
UID:sabre-vobject-48aa4d84-219b-4377-8ea5-3cf7f3e811e1
DTSTAMP:20260419T162004Z
SUMMARY:Abendmahlsgottesdienst
DTSTART;TZID=Europe/Berlin:20260405T093000
ORGANIZER;CN=Ev.-Luth. Bugenhagen-Kirchengemeinde Kiel-Ellerbek:MAILTO:buer
 o@bugenhagenkirche-kiel.de
LOCATION:Bugenhagenkirche Kiel-Ellerbek\, Lütjenburger Str. 7\, Kiel
GEO:54.31425;10.17279
BEGIN:VALARM
TRIGGER;VALUE=DURATION:P1D
ACTION:DISPLAY
DESCRIPTION:Abendmahlsgottesdienst
END:VALARM
END:VEVENT
END:VCALENDAR
