BEGIN:VCALENDAR
VERSION:2.0
PRODID:-//Sabre//Sabre VObject 4.1.6//EN
CALSCALE:GREGORIAN
BEGIN:VEVENT
UID:sabre-vobject-1f62cf96-1203-4599-a909-55ffb926337f
DTSTAMP:20260419T160436Z
SUMMARY:6. Kieler Gospelnacht
DTSTART;TZID=Europe/Berlin:20260424T193000
ORGANIZER;CN=Offene Kirche St. Nikolai in Kiel:MAILTO:no-reply@melsdorf.de
LOCATION:Offene Kirche St. Nikolai in Kiel\, Alter Markt\, Kiel
GEO:54.323221;10.138686
DESCRIPTION:\nZur inzwischen schon traditionell eingeführten Gospelnacht s
 ingen Gospelchöre nicht nur aus Kiel teils a capella\, teils von einer Ba
 nd begleitet ein abwechslungsreiches Programm aus Gospel\, Spiritual und z
 eitgenössischem Repertoire\, gemeinsames Stück wird „Amazing grace“ 
 sein. Unter anderen Chören singen auch GospelJOYces aus Giekau\, Gospelki
 rche\, Jump for Joy\, der Gospelchor Gaarden\, Black Swans\, Rich Sound un
 d die Free Gospel Singers.Die Nacht endet mit einem Medley aus bekannten G
 ospels/Spirituals\, die alle kennen und von den Zuhörenden mitgesungen we
 rden können.
BEGIN:VALARM
TRIGGER;VALUE=DURATION:P1D
ACTION:DISPLAY
DESCRIPTION:6. Kieler Gospelnacht
END:VALARM
END:VEVENT
END:VCALENDAR
